BEGIN:VCALENDAR
VERSION:2.0
PRODID:-//https://haka.spek.fi///Tapahtumakalenteri//FI
CALSCALE:GREGORIAN
BEGIN:VEVENT
SUMMARY:72 tuntia -kouluttajakoulutus, webinaari
UID:2104
DTSTART:20260608T170000
DTEND:20260610T200000
DTSTAMP:20260422T115237
DESCRIPTION:Kaksi iltaa kestävällä webinaari-kurssilla pääset perehtymään siihen, miten kotitalouksien tulisi varautua mahdollisiin häiriötilanteisiin kuten sähkön- ja vedenjakelun häiriöihin.\n\nhttps://koulutus.spek.fi/JulkisetTapahtumat/tapahtumatiedot.aspx?id=2104
END:VEVENT
END:VCALENDAR
