BEGIN:VCALENDAR
VERSION:2.0
PRODID:-//https://haka.spek.fi///Tapahtumakalenteri//FI
CALSCALE:GREGORIAN
BEGIN:VEVENT
SUMMARY:72 tuntia -kouluttajakoulutus, webinaari
UID:2103
DTSTART:20260526T090000
DTEND:20260526T150000
DTSTAMP:20260423T100220
DESCRIPTION:Yhden päivän webinaari-kurssilla pääset perehtymään siihen, miten kotitalouksien tulisi varautua mahdollisiin häiriötilanteisiin kuten sähkön- ja vedenjakelun häiriöihin.\n\nhttps://koulutus.spek.fi/JulkisetTapahtumat/tapahtumatiedot.aspx?id=2103
END:VEVENT
END:VCALENDAR
