BEGIN:VCALENDAR
VERSION:2.0
PRODID:-//https://haka.spek.fi///Tapahtumakalenteri//FI
CALSCALE:GREGORIAN
BEGIN:VEVENT
SUMMARY:Turvallisuuspäällikön peruskurssi, verkossa
UID:2085
DTSTART:20260922T090000
DTEND:20261103T120000
DTSTAMP:20260316T170653
DESCRIPTION:Koulutus järjestetään nelipäiväisenä etäkoulutuksena 22.9. klo 9-12, 6.10. klo 9-12, 20.10. klo 9-12, 3.11. klo 9-12.\n\nhttps://koulutus.spek.fi/JulkisetTapahtumat/tapahtumatiedot.aspx?id=2085
END:VEVENT
END:VCALENDAR
